BEGIN:VCALENDAR
VERSION:2.0
BEGIN:VEVENT
URL:https://bendigohotel.oztix.com.au/outlet/event/2b6c83fe-23d7-4115-868e-9b5aa0c117fe
DTSTART:20260718T110000Z
DTEND:20260718T110000Z
SUMMARY:STRONGER THAN ALL / ALICE REMAINS / KILLING FIELDS
DESCRIPTION:Event details: https://bendigohotel.oztix.com.au/outlet/event/2b6c83fe-23d7-4115-868e-9b5aa0c117fe
LOCATION:Bendigo Hotel (Collingwood, VIC)
END:VEVENT
END:VCALENDAR