BEGIN:VCALENDAR
VERSION:2.0
BEGIN:VEVENT
URL:https://bendigohotel.oztix.com.au/outlet/event/73906fd1-c19b-4af5-b2b2-63de9b84ef9b
DTSTART:20260508T103000Z
DTEND:20260508T103000Z
SUMMARY:Stepdad Advice ‘Pull-ups On The Power Line’ EP Launch
DESCRIPTION:Event details: https://bendigohotel.oztix.com.au/outlet/event/73906fd1-c19b-4af5-b2b2-63de9b84ef9b
LOCATION:Bendigo Hotel (Collingwood, VIC)
END:VEVENT
END:VCALENDAR